BEGIN:VCALENDAR
VERSION:2.0
PRODID:-//ChamberMaster//Event Calendar 2.0//EN
METHOD:PUBLISH
X-PUBLISHED-TTL:P3D
REFRESH-INTERVAL:P3D
CALSCALE:GREGORIAN
BEGIN:VEVENT
DTSTART:20251025T190000Z
DTEND:20251025T220000Z
X-MICROSOFT-CDO-ALLDAYEVENT:FALSE
SUMMARY:Zoo Boo
DESCRIPTION:Come join us and our animal friends at Chahinkapa Zoo for a fun\, family-friendly\, and festive trick-or-treat experience for all ages. Kids and adults alike will delight in getting to see our animals putting on a great show while also getting to dress up and hunt for candy provided by many local business!
X-ALT-DESC;FMTTYPE=text/html:Come join us and our animal friends at Chahinkapa Zoo for a fun\, family-friendly\, and festive trick-or-treat experience for all ages. Kids and adults alike will delight in getting to see our animals putting on a great show while also getting to dress up and hunt for candy provided by many local business!
LOCATION:Chahinkapa Zoo 1004 Rj Hughes Dr\, Wahpeton\, ND 58075
UID:e.417.6347
SEQUENCE:3
DTSTAMP:20260421T171258Z
URL:https://business.wahpetonbreckenridgechamber.com/events/details/zoo-boo-10-25-2025-6347
END:VEVENT

END:VCALENDAR
