BEGIN:VCALENDAR
VERSION:2.0
PRODID:-//ChamberMaster//Event Calendar 2.0//EN
METHOD:PUBLISH
X-PUBLISHED-TTL:P3D
REFRESH-INTERVAL:P3D
CALSCALE:GREGORIAN
BEGIN:VEVENT
DTSTART;VALUE=DATE:20230916
DTEND;VALUE=DATE:20230917
TRANSP:TRANSPARENT
X-MICROSOFT-CDO-ALLDAYEVENT:TRUE
SUMMARY:Youth Waterfowl Hunt
DESCRIPTION:Youth Waterfowl Hunt
X-ALT-DESC;FMTTYPE=text/html:Youth Waterfowl Hunt
LOCATION:Headquartered at the Tewaukon National Wildlife Refuge\, Cayuga ND
UID:e.417.4705
SEQUENCE:3
DTSTAMP:20260419T132813Z
URL:https://business.wahpetonbreckenridgechamber.com/events/details/youth-waterfowl-hunt-4705
END:VEVENT

END:VCALENDAR
