BEGIN:VCALENDAR
VERSION:2.0
PRODID:-//ChamberMaster//Event Calendar 2.0//EN
METHOD:PUBLISH
X-PUBLISHED-TTL:P3D
REFRESH-INTERVAL:P3D
CALSCALE:GREGORIAN
BEGIN:VEVENT
DTSTART:20260208T000000Z
DTEND:20260208T030000Z
X-MICROSOFT-CDO-ALLDAYEVENT:FALSE
SUMMARY:Wyndmere Fire Smoker & Raffle
DESCRIPTION:2026 Wyndmere Fire Smoker & Raffle\n\nGames of Chance - Dinner served at 6 pm - Door prize cash drawing.\n\nhorse races\, meat raffles\, 7-11\, raffle board\, super bowl board\, blackjack & more.\n\n21+ after 9 pm.\n\nContact a Wyndmere Fireman for tickets and other info.
X-ALT-DESC;FMTTYPE=text/html:2026 Wyndmere Fire Smoker &amp\; Raffle<br />\nGames of Chance - Dinner served at 6 pm - Door prize cash drawing.<br />\nhorse races\, meat raffles\, 7-11\, raffle board\, super bowl board\, blackjack &amp\; more.<br />\n21+ after 9 pm.<br />\nContact a Wyndmere Fireman for tickets and other info.
LOCATION:Wyndmere Fire Hall
UID:e.417.6570
SEQUENCE:3
DTSTAMP:20260421T115308Z
URL:https://business.wahpetonbreckenridgechamber.com/events/details/wyndmere-fire-smoker-raffle-6570
END:VEVENT

END:VCALENDAR
