BEGIN:VCALENDAR
VERSION:2.0
PRODID:-//ChamberMaster//Event Calendar 2.0//EN
METHOD:PUBLISH
X-PUBLISHED-TTL:P3D
REFRESH-INTERVAL:P3D
CALSCALE:GREGORIAN
BEGIN:VEVENT
DTSTART:20260228T150000Z
DTEND:20260228T200000Z
X-MICROSOFT-CDO-ALLDAYEVENT:FALSE
SUMMARY:Winter Chess Classic 2026
DESCRIPTION:This is our third Winter Chess Classic.\n\nSaturday\, 02/28\, 9am - 3pm\n\nAny age and level welcome!\n\nJoin us to play some fun chess games. Sign up here:\n\nhttps://forms.gle/mAKnuLvedcX3E2GB.
X-ALT-DESC;FMTTYPE=text/html:<div class="xdj266r x14z9mp xat24cr x1lziwak x1vvkbs" style="overflow-wrap: break-word\; margin-inline: 0px\; margin-bottom: 0px\; margin-top: 0px\; font-family: &quot\;Segoe UI Historic&quot\;\, &quot\;Segoe UI&quot\;\, Helvetica\, Arial\, sans-serif\; color: rgb(226\, 229\, 233)\; font-size: 15px\; background-color: rgb(37\, 39\, 40)\;">This is our third Winter Chess Classic.<br class="html-br" />\nSaturday\, 02/28\, 9am - 3pm<br class="html-br" />\nAny age and level welcome!</div>\n\n<div class="x14z9mp xat24cr x1lziwak x1vvkbs xtlvy1s" style="overflow-wrap: break-word\; margin-top: 0.5em\; margin-inline: 0px\; margin-bottom: 0px\; font-family: &quot\;Segoe UI Historic&quot\;\, &quot\;Segoe UI&quot\;\, Helvetica\, Arial\, sans-serif\; color: rgb(226\, 229\, 233)\; font-size: 15px\; background-color: rgb(37\, 39\, 40)\;">Join us to play some fun chess games. Sign up here:<br class="html-br" />\n<a attributionsrc="/privacy_sandbox/comet/register/source/?xt=AZacGnQl3_LJ3YcCUerdzHD_MWbor-t6cChFpZzinD_HuHfHKza72jERMzEuOQAil24_KCoArsnOp6nCtVcUK0OrA5L_JLf9r6H_ALQP07CKSzgR-1uoBDWvylPUXdiQe7vPsSQcVEfpdZCasHZr_21trg4yeLWXzgenpBUyHr0Xvge_VvRF_oraO0prtU6kEMYzT-TCcvHFjJ8yFVX3wNpW5Eq4M9zGNCHVAst9XcYe01f4nhea2De4Lwm66l2BbbfBJBSSTgSzIMFIeKf5YUX8OUWoxijFvgJ2T6XJ28kKEY0-VXQpM_o2bj06T61yWPUiVXqAuMzADacRh1Ktixdunxj_vl-gdQv-tzIL38-KZ0cn8bqApQvpLp9e5JUGuWVQl7-dyDT5uAMM4Lci6y8twbBJIQDtthp0a3qZV5bKnGv9l9MiRBGoK0r2T0cXP5Qj-bE0wQ7IO6sl6LIHYJpa4lh6zKowPKaohoLsyQDV0dgNPka938HTgNzo8IZwvaaispfE_uM9eqa_tBdRZ1SXKEOt0ruY3KcwjOP__UdGRdcL0oiHsB3dKrFrPF_pP6gPsdwokbxdgUV15-7y6kxlC8ZhNoGAgIBTxjkxN5Ol7aQA7PSrFjWBOBXKeZrPjrnTHAUOAEQteY_P2xn4ARYlVNedQ2Dp3DMQOPSwHHJxNn0SvzZ0DlLE_JIgrO6XWvaI76ACErK6QWaQof5Tm_BOUqI-KIQu9RYgLU29Q2D6RF1D_bZdA_Wtjhlj6BxQuOqSqRkagx2Bhl7o5Ji5XfkwbWT8fwKRCc3Zr1MQXsc9Um0xUXIbuoW44BZVrLI5kLASv3CYNyYO4seeOiLDKzeD56CJ8ivodaN1AwKs14GmNg" class="x1i10hfl xjbqb8w x1ejq31n x18oe1m7 x1sy0etr xstzfhl x972fbf x10w94by x1qhh985 x14e42zd x9f619 x1ypdohk xt0psk2 x3ct3a4 xdj266r x14z9mp xat24cr x1lziwak xexx8yu xyri2b x18d9i69 x1c1uobl x16tdsg8 x1hl2dhg xggy1nq x1a2a7pz xkrqix3 x1sur9pj x1fey0fg x1s688f" href="https://forms.gle/mAKnuLvedcX3E2GB?fbclid=IwZXh0bgNhZW0CMTAAYnJpZBEyWXE0R3Z0ZFlUbFVveEYzMnNydGMGYXBwX2lkEDIyMjAzOTE3ODgyMDA4OTIAAR55eSV48z2Z1JkKZVy4g1Rd4OBjNngkTyYWCK4QBSBGhqmErdDB0sGaAspBQQ_aem_FAFbh8VUu4gcULcaNgFgog" rel="nofollow noreferrer" role="link" style="color: rgb(90\, 167\, 255)\; cursor: pointer\; text-decoration-line: none\; outline: none\; text-align: inherit\; font-weight: 600\; list-style-type: none\; box-sizing: border-box\; background-color: transparent\; display: inline\; -webkit-tap-highlight-color: transparent\; touch-action: manipulation\; border-inline-width: 0px\; margin-inline: 0px\; border-inline-style: none\; padding-inline: 0px\; padding-bottom: 0px\; border-top-style: none\; border-bottom-width: 0px\; border-bottom-style: none\; border-top-width: 0px\; margin-bottom: 0px\; margin-top: 0px\; padding-top: 0px\; font-family: inherit\;" tabindex="0" target="_blank">https://forms.gle/mAKnuLvedcX3E2GB</a>.</div>\n
LOCATION:Breckenridge Family Community Center
UID:e.417.7026
SEQUENCE:3
DTSTAMP:20260421T115309Z
URL:https://business.wahpetonbreckenridgechamber.com/events/details/winter-chess-classic-2026-7026
END:VEVENT

END:VCALENDAR
