BEGIN:VCALENDAR
VERSION:2.0
PRODID:-//ChamberMaster//Event Calendar 2.0//EN
METHOD:PUBLISH
X-PUBLISHED-TTL:P3D
REFRESH-INTERVAL:P3D
CALSCALE:GREGORIAN
BEGIN:VEVENT
DTSTART:20260506T003000Z
DTEND:20260506T023000Z
X-MICROSOFT-CDO-ALLDAYEVENT:FALSE
SUMMARY:Wildcat Singers & Jazz Band Concert
DESCRIPTION:Wildcat Singers & Jazz Band Concert
X-ALT-DESC;FMTTYPE=text/html:Wildcat Singers &amp\; Jazz Band Concert
LOCATION:NDSCS Cultural Center Wahpeton\, ND
UID:e.417.7020
SEQUENCE:3
DTSTAMP:20260421T131605Z
URL:https://business.wahpetonbreckenridgechamber.com/events/details/wildcat-singers-jazz-band-concert-7020
END:VEVENT

END:VCALENDAR
