BEGIN:VCALENDAR
VERSION:2.0
PRODID:-//ChamberMaster//Event Calendar 2.0//EN
METHOD:PUBLISH
X-PUBLISHED-TTL:P3D
REFRESH-INTERVAL:P3D
CALSCALE:GREGORIAN
BEGIN:VEVENT
DTSTART:20251121T233000Z
DTEND:20251122T050000Z
X-MICROSOFT-CDO-ALLDAYEVENT:FALSE
SUMMARY:Wild Game Shows
DESCRIPTION:Come join the Chahinkapa Zoo team at the Wahpeton Community Center for a night of food\, fun\, and prizes! Compete in a myriad of games for the chance to win with a grand prize of $1000! Silent Auction\, catered food\, and dessert is also available.
X-ALT-DESC;FMTTYPE=text/html:Come join the Chahinkapa Zoo team at the Wahpeton Community Center for a night of food\, fun\, and prizes! Compete in a myriad of games for the chance to win with a grand prize of $1000! Silent Auction\, catered food\, and dessert is also available.
LOCATION:Wahpeton Community Center
UID:e.417.6352
SEQUENCE:3
DTSTAMP:20260421T154852Z
URL:https://business.wahpetonbreckenridgechamber.com/events/details/wild-game-shows-11-21-2025-6352
END:VEVENT

END:VCALENDAR
