BEGIN:VCALENDAR
VERSION:2.0
PRODID:-//ChamberMaster//Event Calendar 2.0//EN
METHOD:PUBLISH
X-PUBLISHED-TTL:P3D
REFRESH-INTERVAL:P3D
CALSCALE:GREGORIAN
BEGIN:VEVENT
DTSTART:20260131T140000Z
DTEND:20260201T180000Z
X-MICROSOFT-CDO-ALLDAYEVENT:FALSE
SUMMARY:WEEKEND SCUBA CLASS
DESCRIPTION:WEEKEND SCUBA CLASS\n\nAll the adventure\, fun and excitement of the underwater world can be yours when you become a certified SCUBA diver. Our professional program is a complete course including classroom and underwater instruction\, leading to an internationally recognized PADI certification in SCUBA diving.  Use your lifetime certification card to absorb the awesome beauty of a new world...underwater!
X-ALT-DESC;FMTTYPE=text/html:<span style="font-size:14px\;"><strong><span style="color:red\;"><span style="font-family:permanent marker\;">WEEKEND SCUBA CLASS</span></span></strong></span><br />\nAll the adventure\, fun and excitement of the underwater world can be yours when you become a certified SCUBA diver. Our professional program is a complete course including classroom and underwater instruction\, leading to an internationally recognized <strong>PADI</strong> certification in <strong>SCUBA </strong>diving.&nbsp\; Use your lifetime certification card to absorb the awesome beauty of a new world...underwater!<br />\n<br />\n&nbsp\;
LOCATION:NDSCS Blikre Activities Center Pool
UID:e.417.6517
SEQUENCE:3
DTSTAMP:20260421T115144Z
URL:https://business.wahpetonbreckenridgechamber.com/events/details/weekend-scuba-class-6517
END:VEVENT

END:VCALENDAR
