BEGIN:VCALENDAR
VERSION:2.0
PRODID:-//ChamberMaster//Event Calendar 2.0//EN
METHOD:PUBLISH
X-PUBLISHED-TTL:P3D
REFRESH-INTERVAL:P3D
CALSCALE:GREGORIAN
BEGIN:VEVENT
DTSTART:20251028T200000Z
DTEND:20251029T000000Z
X-MICROSOFT-CDO-ALLDAYEVENT:FALSE
SUMMARY:Walk In Mammogram Event
DESCRIPTION:Walk-In Mammogram Event\n\n - Breast Cancer Awareness Month - \n\n\n\nNo Appointments\n\nBring your insurance card\n\nOptional Clinical Breast Exams\n\nEstablish a Primary Care Provider\n\nWomen's Way Consultations
X-ALT-DESC;FMTTYPE=text/html:Walk-In Mammogram Event<br />\n&nbsp\;- Breast Cancer Awareness Month -&nbsp\;<br />\n<br />\nNo Appointments<br />\nBring your insurance card<br />\nOptional Clinical Breast Exams<br />\nEstablish a Primary Care Provider<br />\nWomen&#39\;s Way Consultations
LOCATION:CHI St Francis Health
UID:e.417.6403
SEQUENCE:3
DTSTAMP:20260421T171006Z
URL:https://business.wahpetonbreckenridgechamber.com/events/details/walk-in-mammogram-event-6403
END:VEVENT

END:VCALENDAR
