BEGIN:VCALENDAR
VERSION:2.0
PRODID:-//ChamberMaster//Event Calendar 2.0//EN
METHOD:PUBLISH
X-PUBLISHED-TTL:P3D
REFRESH-INTERVAL:P3D
CALSCALE:GREGORIAN
BEGIN:VEVENT
DTSTART:20251204T230000Z
DTEND:20251205T010000Z
X-MICROSOFT-CDO-ALLDAYEVENT:FALSE
SUMMARY:Wahpeton Tree Lighting
DESCRIPTION:Wahpeton Tree Lighting
X-ALT-DESC;FMTTYPE=text/html:Wahpeton Tree Lighting
LOCATION:Heritage Square
UID:e.417.6367
SEQUENCE:3
DTSTAMP:20260421T154706Z
URL:https://business.wahpetonbreckenridgechamber.com/events/details/wahpeton-tree-lighting-6367
END:VEVENT

END:VCALENDAR
