BEGIN:VCALENDAR
VERSION:2.0
PRODID:-//ChamberMaster//Event Calendar 2.0//EN
METHOD:PUBLISH
X-PUBLISHED-TTL:P3D
REFRESH-INTERVAL:P3D
CALSCALE:GREGORIAN
BEGIN:VEVENT
DTSTART;VALUE=DATE:20251010
DTEND;VALUE=DATE:20251012
TRANSP:TRANSPARENT
X-MICROSOFT-CDO-ALLDAYEVENT:TRUE
SUMMARY:Wahpeton Fall Festival
DESCRIPTION:Wahpeton Fall Festival\n\n\n\nHaunted House\n\nOctober 10th 9 pm to midnight\n\nOctober 11th 7 pm to midnight \n\n$10 Per Person\n\n\n\nMovie in the Park (Hocus Pocus)\n\nOctober 10th | Chahinkapa Band Shelter | 6 pm\n\nS'mores until gone\n\n\n\nBake Sale & COntest\n\nOctober 11th | Hughes Shelter \n\nSale 12 pm - 2 pm | Contest @ 2 pm\n\n\n\nFamily Fun\n\nOctober 11th\n\nRosemeade Chalet | Meet & Greet | Pumpkin Patch | Photo Booth\n\n\n\nComedian Bob Smiley\n\nOctober 11th\n\nNDSCS Cultural Center | 7 pm | $12 per person
X-ALT-DESC;FMTTYPE=text/html:Wahpeton Fall Festival<br />\n<br />\nHaunted House<br />\nOctober 10th 9 pm to midnight<br />\nOctober 11th 7 pm to midnight&nbsp\;<br />\n$10 Per Person<br />\n<br />\nMovie in the Park (Hocus Pocus)<br />\nOctober 10th | Chahinkapa Band Shelter | 6 pm<br />\nS&#39\;mores until gone<br />\n<br />\nBake Sale &amp\; COntest<br />\nOctober 11th | Hughes Shelter&nbsp\;<br />\nSale 12 pm - 2 pm | Contest @ 2 pm<br />\n<br />\nFamily Fun<br />\nOctober 11th<br />\nRosemeade Chalet | Meet &amp\; Greet | Pumpkin Patch | Photo Booth<br />\n<br />\nComedian Bob Smiley<br />\nOctober 11th<br />\nNDSCS Cultural Center | 7 pm | $12 per person<br />\n&nbsp\;
LOCATION:
UID:e.417.6361
SEQUENCE:3
DTSTAMP:20260421T171805Z
URL:https://business.wahpetonbreckenridgechamber.com/events/details/wahpeton-fall-festival-6361
END:VEVENT

END:VCALENDAR
