BEGIN:VCALENDAR
VERSION:2.0
PRODID:-//ChamberMaster//Event Calendar 2.0//EN
METHOD:PUBLISH
X-PUBLISHED-TTL:P3D
REFRESH-INTERVAL:P3D
CALSCALE:GREGORIAN
BEGIN:VEVENT
DTSTART:20240504T140000Z
DTEND:20240504T170000Z
X-MICROSOFT-CDO-ALLDAYEVENT:FALSE
SUMMARY:Vince Herding Spring Youth Fishing Derby
DESCRIPTION:Vince Herding Spring Youth Fishing Derby\n\nFree event for boys 7 girls ages 18 & under\n\nKidder recreation area wahpeton\, nd\n\nFishing 9am - 12pm\n\nCasting contest 11am - 12pm\n\nfood & prizes starting at noon
X-ALT-DESC;FMTTYPE=text/html:Vince Herding Spring Youth Fishing Derby<br />\nFree event for boys 7 girls ages 18 &amp\; under<br />\nKidder recreation area wahpeton\, nd<br />\nFishing 9am - 12pm<br />\nCasting contest 11am - 12pm<br />\nfood &amp\; prizes starting at noon
LOCATION:Kidder Recreation Area\, Wahpeton Nd
UID:e.417.5473
SEQUENCE:3
DTSTAMP:20260425T163837Z
URL:https://business.wahpetonbreckenridgechamber.com/events/details/vince-herding-spring-youth-fishing-derby-5473
END:VEVENT

END:VCALENDAR
