BEGIN:VCALENDAR
VERSION:2.0
PRODID:-//ChamberMaster//Event Calendar 2.0//EN
METHOD:PUBLISH
X-PUBLISHED-TTL:P3D
REFRESH-INTERVAL:P3D
CALSCALE:GREGORIAN
BEGIN:VEVENT
DTSTART:20230727T210000Z
DTEND:20230728T000000Z
X-MICROSOFT-CDO-ALLDAYEVENT:FALSE
SUMMARY:Twin Towns Gardeners Makert
DESCRIPTION:Twin Towns Gardener's Market
X-ALT-DESC;FMTTYPE=text/html:Twin Towns Gardener&#39\;s Market
LOCATION:St. John's east parking lot 2nd Street & 2nd Avenue North Wahpeton\, ND
UID:e.417.4677
SEQUENCE:3
DTSTAMP:20260421T103316Z
URL:https://business.wahpetonbreckenridgechamber.com/events/details/twin-towns-gardeners-makert-07-27-2023-4677
END:VEVENT

END:VCALENDAR
