BEGIN:VCALENDAR
VERSION:2.0
PRODID:-//ChamberMaster//Event Calendar 2.0//EN
METHOD:PUBLISH
X-PUBLISHED-TTL:P3D
REFRESH-INTERVAL:P3D
CALSCALE:GREGORIAN
BEGIN:VEVENT
DTSTART:20250911T210000Z
DTEND:20250912T000000Z
X-MICROSOFT-CDO-ALLDAYEVENT:FALSE
SUMMARY:Twin Town Gardeners' Market
DESCRIPTION:Twin Town Gardeners' Market\n\n\n\nLocal\, Fresh\, Good
X-ALT-DESC;FMTTYPE=text/html:Twin Town Gardeners' Market<br>\n<br>\nLocal\, Fresh\, Good
LOCATION:St John's east parking lot 2nd street & 2nd Ave North\, Wahpeton
UID:e.417.6293
SEQUENCE:3
DTSTAMP:20260421T184349Z
URL:https://business.wahpetonbreckenridgechamber.com/events/details/twin-town-gardeners-market-09-11-2025-6293
END:VEVENT

END:VCALENDAR
