BEGIN:VCALENDAR
VERSION:2.0
PRODID:-//ChamberMaster//Event Calendar 2.0//EN
METHOD:PUBLISH
X-PUBLISHED-TTL:P3D
REFRESH-INTERVAL:P3D
CALSCALE:GREGORIAN
BEGIN:VEVENT
DTSTART:20251029T003000Z
DTEND:20251029T023000Z
X-MICROSOFT-CDO-ALLDAYEVENT:FALSE
SUMMARY:Twin Town Artist Series: The Suits
DESCRIPTION:Twin Town Artist Series: The Suits
X-ALT-DESC;FMTTYPE=text/html:Twin Town Artist Series: The Suits
LOCATION:NDSCS Sterns Cultural Center
UID:e.417.6395
SEQUENCE:3
DTSTAMP:20260421T171441Z
URL:https://business.wahpetonbreckenridgechamber.com/events/details/twin-town-artist-series-the-suits-6395
END:VEVENT

END:VCALENDAR
