BEGIN:VCALENDAR
VERSION:2.0
PRODID:-//ChamberMaster//Event Calendar 2.0//EN
METHOD:PUBLISH
X-PUBLISHED-TTL:P3D
REFRESH-INTERVAL:P3D
CALSCALE:GREGORIAN
BEGIN:VEVENT
DTSTART:20251110T013000Z
DTEND:20251110T033000Z
X-MICROSOFT-CDO-ALLDAYEVENT:FALSE
SUMMARY:Twin Town Artist Series: Aria Nouveau
DESCRIPTION:Twin Town Artist Series: Aria Nouveau
X-ALT-DESC;FMTTYPE=text/html:Twin Town Artist Series: Aria Nouveau
LOCATION:NDSCS Sterns Cultural Center
UID:e.417.6396
SEQUENCE:3
DTSTAMP:20260421T160655Z
URL:https://business.wahpetonbreckenridgechamber.com/events/details/twin-town-artist-series-aria-nouveau-6396
END:VEVENT

END:VCALENDAR
