BEGIN:VCALENDAR
VERSION:2.0
PRODID:-//ChamberMaster//Event Calendar 2.0//EN
METHOD:PUBLISH
X-PUBLISHED-TTL:P3D
REFRESH-INTERVAL:P3D
CALSCALE:GREGORIAN
BEGIN:VEVENT
DTSTART:20251127T150000Z
DTEND:20251127T160000Z
X-MICROSOFT-CDO-ALLDAYEVENT:FALSE
SUMMARY:Turkey Trot - VLBH
DESCRIPTION:Valley Lake Boys Home 4th Annual Turkey Trot\n\nGet ready to run\, walk \, and gobble at the Valley Lake Boys Home Fourth Annual Turkey Trot - it's gonna be a blast! Cash prizes!
X-ALT-DESC;FMTTYPE=text/html:Valley Lake Boys Home 4th Annual Turkey Trot<br />\n<span background-color:="" font-size:="" segoe="" ui="">Get ready to run\, walk \, and gobble at the Valley Lake Boys Home Fourth Annual Turkey Trot - it&#39\;s gonna be a blast! Cash prizes!</span>
LOCATION:Breckenridge Family Community Center
UID:e.417.6371
SEQUENCE:3
DTSTAMP:20260421T155704Z
URL:https://business.wahpetonbreckenridgechamber.com/events/details/turkey-trot-vlbh-6371
END:VEVENT

END:VCALENDAR
