BEGIN:VCALENDAR
VERSION:2.0
PRODID:-//ChamberMaster//Event Calendar 2.0//EN
METHOD:PUBLISH
X-PUBLISHED-TTL:P3D
REFRESH-INTERVAL:P3D
CALSCALE:GREGORIAN
BEGIN:VEVENT
DTSTART:20251116T003000Z
DTEND:20251116T023000Z
X-MICROSOFT-CDO-ALLDAYEVENT:FALSE
SUMMARY:Turkey Bingo
DESCRIPTION:Turkey Bingo
X-ALT-DESC;FMTTYPE=text/html:Turkey Bingo
LOCATION:Breckenridge Senior Center 225 5th St S Breckenridge\, MN
UID:e.417.6474
SEQUENCE:3
DTSTAMP:20260421T154805Z
URL:https://business.wahpetonbreckenridgechamber.com/events/details/turkey-bingo-6474
END:VEVENT

END:VCALENDAR
