BEGIN:VCALENDAR
VERSION:2.0
PRODID:-//ChamberMaster//Event Calendar 2.0//EN
METHOD:PUBLISH
X-PUBLISHED-TTL:P3D
REFRESH-INTERVAL:P3D
CALSCALE:GREGORIAN
BEGIN:VEVENT
DTSTART:20220823T223000Z
DTEND:20220824T003000Z
X-MICROSOFT-CDO-ALLDAYEVENT:FALSE
SUMMARY:Tupperware Bingo
DESCRIPTION:TUPPERWARE Terrific Tuesday BINGO! Cost is $35. We will play 10 games. Games 1-9 prizes valued $20-$25. Game 10 prize valued at $150! I will have door prizes and raffles. If we have over 15 people in attendance I will do a 11th game for another $150 prize.  At Pizza Ranch.
X-ALT-DESC;FMTTYPE=text/html:<span style="color: rgb(5\, 5\, 5)\; font-family: &quot\;Segoe UI Historic&quot\;\, &quot\;Segoe UI&quot\;\, Helvetica\, Arial\, sans-serif\; font-size: 15px\;">TUPPERWARE Terrific Tuesday BINGO! Cost is $35. We will play 10 games. Games 1-9 prizes valued $20-$25. Game 10 prize valued at $150! I will have door prizes and raffles. If we have over 15 people in attendance I will do a 11th game for another $150 prize.&nbsp\; At Pizza Ranch.</span>
LOCATION:
UID:e.417.4158
SEQUENCE:3
DTSTAMP:20260421T152705Z
URL:https://business.wahpetonbreckenridgechamber.com/events/details/tupperware-bingo-4158
END:VEVENT

END:VCALENDAR
