BEGIN:VCALENDAR
VERSION:2.0
PRODID:-//ChamberMaster//Event Calendar 2.0//EN
METHOD:PUBLISH
X-PUBLISHED-TTL:P3D
REFRESH-INTERVAL:P3D
CALSCALE:GREGORIAN
BEGIN:VEVENT
DTSTART:20231020T210000Z
DTEND:20231021T000000Z
X-MICROSOFT-CDO-ALLDAYEVENT:FALSE
SUMMARY:Trunk or Treat: Vision-Ford
DESCRIPTION:Trunk or Treat\n\nFood Trucks\, bounce house & prizes
X-ALT-DESC;FMTTYPE=text/html:Trunk or Treat<br />\nFood Trucks\, bounce house &amp\; prizes
LOCATION:Vision Ford-Lincoln Parking Lot 1688 Two Ten Drive Wahpeton\, ND 58075
UID:e.417.4955
SEQUENCE:3
DTSTAMP:20260419T162434Z
URL:https://business.wahpetonbreckenridgechamber.com/events/details/trunk-or-treat-vision-ford-4955
END:VEVENT

END:VCALENDAR
