BEGIN:VCALENDAR
VERSION:2.0
PRODID:-//ChamberMaster//Event Calendar 2.0//EN
METHOD:PUBLISH
X-PUBLISHED-TTL:P3D
REFRESH-INTERVAL:P3D
CALSCALE:GREGORIAN
BEGIN:VEVENT
DTSTART:20251029T230000Z
DTEND:20251030T010000Z
X-MICROSOFT-CDO-ALLDAYEVENT:FALSE
SUMMARY:Trunk or Treat @ HOC
DESCRIPTION:Trunk or treat\, hot cocoa\, popcorn\, hay rides\, meet & greet with community emergency workers\, and more! All free!!
X-ALT-DESC;FMTTYPE=text/html:Trunk or treat\, hot cocoa\, popcorn\, hay rides\, meet &amp\; greet with community emergency workers\, and more! All free!!
LOCATION:Harvest Outreach Church 1155 21st Ave N Wahpeton
UID:e.417.6378
SEQUENCE:3
DTSTAMP:20260421T171233Z
URL:https://business.wahpetonbreckenridgechamber.com/events/details/trunk-or-treat-hoc-6378
END:VEVENT

END:VCALENDAR
