BEGIN:VCALENDAR
VERSION:2.0
PRODID:-//ChamberMaster//Event Calendar 2.0//EN
METHOD:PUBLISH
X-PUBLISHED-TTL:P3D
REFRESH-INTERVAL:P3D
CALSCALE:GREGORIAN
BEGIN:VEVENT
DTSTART:20231025T230000Z
DTEND:20231026T010000Z
X-MICROSOFT-CDO-ALLDAYEVENT:FALSE
SUMMARY:Trunk or Treat: Harvest Outreach Church
DESCRIPTION:Trunk or Treat! Free Popcorn\, Hot Cocoa\, & Hayrides.
X-ALT-DESC;FMTTYPE=text/html:Trunk or Treat! Free Popcorn\, Hot Cocoa\, &amp\; Hayrides.
LOCATION:Harvest Outreach Church 1155 21st Ave N Wahpeton
UID:e.417.4970
SEQUENCE:3
DTSTAMP:20260419T150347Z
URL:https://business.wahpetonbreckenridgechamber.com/events/details/trunk-or-treat-harvest-outreach-church-4970
END:VEVENT

END:VCALENDAR
