BEGIN:VCALENDAR
VERSION:2.0
PRODID:-//ChamberMaster//Event Calendar 2.0//EN
METHOD:PUBLISH
X-PUBLISHED-TTL:P3D
REFRESH-INTERVAL:P3D
CALSCALE:GREGORIAN
BEGIN:VEVENT
DTSTART:20231011T000000Z
DTEND:20231011T020000Z
X-MICROSOFT-CDO-ALLDAYEVENT:FALSE
SUMMARY:Trivia Night @ The Brew
DESCRIPTION:2000's Movies Trivia
X-ALT-DESC;FMTTYPE=text/html:2000&#39\;s Movies Trivia
LOCATION:City Brew Hall
UID:e.417.4989
SEQUENCE:3
DTSTAMP:20260419T161200Z
URL:https://business.wahpetonbreckenridgechamber.com/events/details/trivia-night-the-brew-4989
END:VEVENT

END:VCALENDAR
