BEGIN:VCALENDAR
VERSION:2.0
PRODID:-//ChamberMaster//Event Calendar 2.0//EN
METHOD:PUBLISH
X-PUBLISHED-TTL:P3D
REFRESH-INTERVAL:P3D
CALSCALE:GREGORIAN
BEGIN:VEVENT
DTSTART:20231004T000000Z
DTEND:20231004T030000Z
X-MICROSOFT-CDO-ALLDAYEVENT:FALSE
SUMMARY:Trivia Night: General Knowledge
DESCRIPTION:General Knowledge Trivia Night
X-ALT-DESC;FMTTYPE=text/html:General Knowledge Trivia Night
LOCATION:City Brew Hall
UID:e.417.4973
SEQUENCE:3
DTSTAMP:20260419T160731Z
URL:https://business.wahpetonbreckenridgechamber.com/events/details/trivia-night-general-knowledge-4973
END:VEVENT

END:VCALENDAR
