BEGIN:VCALENDAR
VERSION:2.0
PRODID:-//ChamberMaster//Event Calendar 2.0//EN
METHOD:PUBLISH
X-PUBLISHED-TTL:P3D
REFRESH-INTERVAL:P3D
CALSCALE:GREGORIAN
BEGIN:VEVENT
DTSTART:20251031T210000Z
DTEND:20251101T000000Z
X-MICROSOFT-CDO-ALLDAYEVENT:FALSE
SUMMARY:Trick Or Treating @ The Leach Home
DESCRIPTION:Freaky Friday on 4th Street! Youre invited to Free Trick or Treating and $5 hotdog meal(grilled hot dog\, chips\, and water) at the Leach Home.
X-ALT-DESC;FMTTYPE=text/html:Freaky Friday on 4th Street! Youre invited to Free Trick or Treating and $5 hotdog meal(grilled hot dog\, chips\, and water) at the Leach Home.
LOCATION:The Leach Home
UID:e.417.6393
SEQUENCE:3
DTSTAMP:20260421T171231Z
URL:https://business.wahpetonbreckenridgechamber.com/events/details/trick-or-treating-the-leach-home-6393
END:VEVENT

END:VCALENDAR
