BEGIN:VCALENDAR
VERSION:2.0
PRODID:-//ChamberMaster//Event Calendar 2.0//EN
METHOD:PUBLISH
X-PUBLISHED-TTL:P3D
REFRESH-INTERVAL:P3D
CALSCALE:GREGORIAN
BEGIN:VEVENT
DTSTART:20251031T223000Z
DTEND:20251101T003000Z
X-MICROSOFT-CDO-ALLDAYEVENT:FALSE
SUMMARY:Trick Or Treating: Fire Hall Edition
DESCRIPTION:Both Fire Halls will be open on Friday October 31\, 2025 from 5:30-7:30pm for a fa-boo-lous Halloween!! Stop out and see us!\n\nSS Hall: 204 5th St. S\n\nNS Hall: 1065 16th Ave. N\n\nNo tricks\, just treats
X-ALT-DESC;FMTTYPE=text/html:<div class="xdj266r x14z9mp xat24cr x1lziwak x1vvkbs" style="overflow-wrap: break-word\; margin-inline: 0px\; margin-bottom: 0px\; margin-top: 0px\; font-family: &quot\;Segoe UI Historic&quot\;\, &quot\;Segoe UI&quot\;\, Helvetica\, Arial\, sans-serif\; color: rgb(226\, 229\, 233)\; font-size: 15px\; background-color: rgb(37\, 39\, 40)\;">Both Fire Halls will be open on Friday October 31\, 2025 from 5:30-7:30pm for a fa-boo-lous Halloween!! Stop out and see us!</div>\n\n<div class="x14z9mp xat24cr x1lziwak x1vvkbs xtlvy1s" style="overflow-wrap: break-word\; margin-top: 0.5em\; margin-inline: 0px\; margin-bottom: 0px\; font-family: &quot\;Segoe UI Historic&quot\;\, &quot\;Segoe UI&quot\;\, Helvetica\, Arial\, sans-serif\; color: rgb(226\, 229\, 233)\; font-size: 15px\; background-color: rgb(37\, 39\, 40)\;">SS Hall: 204 5th St. S<br class="html-br" />\nNS Hall: 1065 16th Ave. N</div>\n\n<div class="x14z9mp xat24cr x1lziwak x1vvkbs xtlvy1s" style="overflow-wrap: break-word\; margin-top: 0.5em\; margin-inline: 0px\; margin-bottom: 0px\; font-family: &quot\;Segoe UI Historic&quot\;\, &quot\;Segoe UI&quot\;\, Helvetica\, Arial\, sans-serif\; color: rgb(226\, 229\, 233)\; font-size: 15px\; background-color: rgb(37\, 39\, 40)\;">No tricks\, just treats</div>\n
LOCATION:SS Hall: 204 5th St S Northside Hall: 1065 16th Ave N
UID:e.417.6388
SEQUENCE:3
DTSTAMP:20260421T170956Z
URL:https://business.wahpetonbreckenridgechamber.com/events/details/trick-or-treating-fire-hall-edition-6388
END:VEVENT

END:VCALENDAR
