BEGIN:VCALENDAR
VERSION:2.0
PRODID:-//ChamberMaster//Event Calendar 2.0//EN
METHOD:PUBLISH
X-PUBLISHED-TTL:P3D
REFRESH-INTERVAL:P3D
CALSCALE:GREGORIAN
BEGIN:VEVENT
DTSTART:20251030T200000Z
DTEND:20251030T220000Z
X-MICROSOFT-CDO-ALLDAYEVENT:FALSE
SUMMARY:Trick Or Treat @ Historical Society
DESCRIPTION:Come Trick or Treat\n\nOctober 30th after school til 5 pm\n\nRichland County Historical Society\n\n11 7th Ave N\n\nWahpeton\, ND
X-ALT-DESC;FMTTYPE=text/html:Come Trick or Treat<br />\nOctober 30th after school til 5 pm<br />\nRichland County Historical Society<br />\n11 7th Ave N<br />\nWahpeton\, ND
LOCATION:Richland County Historical Society 11 7th Ave N Wahpeton\, ND
UID:e.417.6379
SEQUENCE:3
DTSTAMP:20260421T172227Z
URL:https://business.wahpetonbreckenridgechamber.com/events/details/trick-or-treat-historical-society-6379
END:VEVENT

END:VCALENDAR
