BEGIN:VCALENDAR
VERSION:2.0
PRODID:-//ChamberMaster//Event Calendar 2.0//EN
METHOD:PUBLISH
X-PUBLISHED-TTL:P3D
REFRESH-INTERVAL:P3D
CALSCALE:GREGORIAN
BEGIN:VEVENT
DTSTART:20251206T190000Z
DTEND:20251207T220000Z
X-MICROSOFT-CDO-ALLDAYEVENT:FALSE
SUMMARY:Trains & Treats & More Holiday Open House
DESCRIPTION:Richland County Historical Museum & the Red River Model Train Club presents...\n\nTrains and Treats and More\n\nHoliday Open House
X-ALT-DESC;FMTTYPE=text/html:<p>Richland County Historical Museum &amp\; the Red River Model Train Club presents...</p>\n\n<p>Trains and Treats and More</p>\n\n<p>Holiday Open House</p>\n
LOCATION:Richland County Historical Museum 11 7th Ave N Wahpeton
UID:e.417.6471
SEQUENCE:3
DTSTAMP:20260421T144006Z
URL:https://business.wahpetonbreckenridgechamber.com/events/details/trains-treats-more-holiday-open-house-6471
END:VEVENT

END:VCALENDAR
