BEGIN:VCALENDAR
VERSION:2.0
PRODID:-//ChamberMaster//Event Calendar 2.0//EN
METHOD:PUBLISH
X-PUBLISHED-TTL:P3D
REFRESH-INTERVAL:P3D
CALSCALE:GREGORIAN
BEGIN:VEVENT
DTSTART:20251030T213000Z
DTEND:20251030T233000Z
X-MICROSOFT-CDO-ALLDAYEVENT:FALSE
SUMMARY:Thrifty Horizons Trunk or Treat
DESCRIPTION:Free to the public. Bring your Ghouls and Goblins to Thrifty Horizons parking lot to see the trunks that have been decorated by the people supported and direct support staff of Red River Human Services Foundation. Get your treats at Thrifty Horizons (owned and operated by RRHSF).
X-ALT-DESC;FMTTYPE=text/html:Free to the public. Bring your Ghouls and Goblins to Thrifty Horizons parking lot to see the trunks that have been decorated by the people supported and direct support staff of Red River Human Services Foundation. Get your treats at Thrifty Horizons (owned and operated by RRHSF).
LOCATION:229 Minnesota Ave Breckenridge MN 56520
UID:e.417.6346
SEQUENCE:3
DTSTAMP:20260421T171846Z
URL:https://business.wahpetonbreckenridgechamber.com/events/details/thrifty-horizons-trunk-or-treat-6346
END:VEVENT

END:VCALENDAR
