BEGIN:VCALENDAR
VERSION:2.0
PRODID:-//ChamberMaster//Event Calendar 2.0//EN
METHOD:PUBLISH
X-PUBLISHED-TTL:P3D
REFRESH-INTERVAL:P3D
CALSCALE:GREGORIAN
BEGIN:VEVENT
DTSTART:20260314T000000Z
DTEND:20260314T020000Z
X-MICROSOFT-CDO-ALLDAYEVENT:FALSE
SUMMARY:The Concordia Orchestra
DESCRIPTION:The Concordia Orchestra\n\nKevin Sutterlin\, Conductor\n\n\n\nFriday MArch 13 7 pm
X-ALT-DESC;FMTTYPE=text/html:The Concordia Orchestra<br />\nKevin Sutterlin\, Conductor<br />\n<br />\nFriday MArch 13 7 pm<br />\n&nbsp\;
LOCATION:Harry & Ella Stern Cultural Center Wahpeton\, ND
UID:e.417.7031
SEQUENCE:3
DTSTAMP:20260421T102958Z
URL:https://business.wahpetonbreckenridgechamber.com/events/details/the-concordia-orchestra-7031
END:VEVENT

END:VCALENDAR
