BEGIN:VCALENDAR
VERSION:2.0
PRODID:-//ChamberMaster//Event Calendar 2.0//EN
METHOD:PUBLISH
X-PUBLISHED-TTL:P3D
REFRESH-INTERVAL:P3D
CALSCALE:GREGORIAN
BEGIN:VEVENT
DTSTART:20251127T170000Z
DTEND:20251127T190000Z
X-MICROSOFT-CDO-ALLDAYEVENT:FALSE
SUMMARY:Thanksgiving Dinner
DESCRIPTION:Annual FREE Thanksgiving Dinner\n\nDine in & Carry-Out\n\nOpen to everyone\n\nCollege Students Welcome\n\nNo Reservations\n\nNo Delivery
X-ALT-DESC;FMTTYPE=text/html:Annual FREE Thanksgiving Dinner<br />\nDine in &amp\; Carry-Out<br />\nOpen to everyone<br />\nCollege Students Welcome<br />\nNo Reservations<br />\nNo Delivery
LOCATION:Inspiration Church 1130 Main Street Breckenridge\, MN
UID:e.417.6492
SEQUENCE:3
DTSTAMP:20260421T154659Z
URL:https://business.wahpetonbreckenridgechamber.com/events/details/thanksgiving-dinner-6492
END:VEVENT

END:VCALENDAR
