BEGIN:VCALENDAR
VERSION:2.0
PRODID:-//ChamberMaster//Event Calendar 2.0//EN
METHOD:PUBLISH
X-PUBLISHED-TTL:P3D
REFRESH-INTERVAL:P3D
CALSCALE:GREGORIAN
BEGIN:VEVENT
DTSTART:20260517T180000Z
DTEND:20260517T200000Z
X-MICROSOFT-CDO-ALLDAYEVENT:FALSE
SUMMARY:Syttende Mai Celebration
DESCRIPTION:Velkommen\, You're Invited!\n\nSyttende Mai Celebration\n\nNorway's Constitution Day\n\n \n\nServing Norwegian Delicacies
X-ALT-DESC;FMTTYPE=text/html:<p>Velkommen\, You&#39\;re Invited!</p>\n\n<p>Syttende Mai Celebration</p>\n\n<p>Norway&#39\;s Constitution Day<br />\n&nbsp\;</p>\n\n<p>Serving Norwegian Delicacies</p>\n
LOCATION:
UID:e.417.7107
SEQUENCE:3
DTSTAMP:20260421T130352Z
URL:https://business.wahpetonbreckenridgechamber.com/events/details/syttende-mai-celebration-7107
END:VEVENT

END:VCALENDAR
