BEGIN:VCALENDAR
VERSION:2.0
PRODID:-//ChamberMaster//Event Calendar 2.0//EN
METHOD:PUBLISH
X-PUBLISHED-TTL:P3D
REFRESH-INTERVAL:P3D
CALSCALE:GREGORIAN
BEGIN:VEVENT
DTSTART:20240512T180000Z
DTEND:20240512T200000Z
X-MICROSOFT-CDO-ALLDAYEVENT:FALSE
SUMMARY:Syttende Mai (celebrating Norwegian Constitution Day)
DESCRIPTION:The Sons of Norway    will host the annual Syttende Mai (celebrating Norwegian Constitution Day)
X-ALT-DESC;FMTTYPE=text/html:<span style="font-family:aptos\,sans-serif\;"><span style="font-size:11.0pt\;">The Sons of Norway </span></span><span style="font-family:segoe ui emoji\,sans-serif\;"><span style="font-size:11.0pt\;">&#127475\;&#127476\;</span></span><span style="font-family:aptos\,sans-serif\;"><span style="font-size:11.0pt\;"> will host the annual Syttende Mai (celebrating Norwegian Constitution Day)</span></span>
LOCATION:Hugh's Shelter - Chahinkapa Park
UID:e.417.5466
SEQUENCE:3
DTSTAMP:20260425T163822Z
URL:https://business.wahpetonbreckenridgechamber.com/events/details/syttende-mai-celebrating-norwegian-constitution-day-5466
END:VEVENT

END:VCALENDAR
