BEGIN:VCALENDAR
VERSION:2.0
PRODID:-//ChamberMaster//Event Calendar 2.0//EN
METHOD:PUBLISH
X-PUBLISHED-TTL:P3D
REFRESH-INTERVAL:P3D
CALSCALE:GREGORIAN
BEGIN:VEVENT
DTSTART:20251005T210000Z
DTEND:20251005T230000Z
X-MICROSOFT-CDO-ALLDAYEVENT:FALSE
SUMMARY:SVFSC Fall Kick Off Party
DESCRIPTION:Southern Valley Figure Skating Kick Off Party\nFall Kick Off Party & Try Skating For Free for new and returning skaters!\n\nJOIN US FOR FUN\, GIVEAWAYS\, & IN PERSON REGISTRATION!!!\n\nWe Are Offering LTS Hockey As Well! - This is a great opportunity to learn some basic hockey skating skills!\n\nSee flyer in the discussion for more information!
X-ALT-DESC;FMTTYPE=text/html:Southern Valley Figure Skating Kick Off Party\n<div background-color:="" class="xdj266r x14z9mp xat24cr x1lziwak x1vvkbs" color:="" font-size:="" segoe="" style="overflow-wrap: break-word\; margin-inline: 0px\; margin-bottom: 0px\; margin-top: 0px\; font-family: " ui="">Fall Kick Off Party &amp\; Try Skating For Free for new and returning skaters!</div>\n\n<div background-color:="" class="x14z9mp xat24cr x1lziwak x1vvkbs xtlvy1s" color:="" font-size:="" segoe="" style="overflow-wrap: break-word\; margin-top: 0.5em\; margin-inline: 0px\; margin-bottom: 0px\; font-family: " ui="">JOIN US FOR FUN\, GIVEAWAYS\, &amp\; IN PERSON REGISTRATION!!!</div>\n\n<div background-color:="" class="x14z9mp xat24cr x1lziwak x1vvkbs xtlvy1s" color:="" font-size:="" segoe="" style="overflow-wrap: break-word\; margin-top: 0.5em\; margin-inline: 0px\; margin-bottom: 0px\; font-family: " ui="">We Are Offering LTS Hockey As Well! - This is a great opportunity to learn some basic hockey skating skills!</div>\n\n<div background-color:="" class="x14z9mp xat24cr x1lziwak x1vvkbs xtlvy1s" color:="" font-size:="" segoe="" style="overflow-wrap: break-word\; margin-top: 0.5em\; margin-inline: 0px\; margin-bottom: 0px\; font-family: " ui="">See flyer in the discussion for more information!</div>\n
LOCATION:Ella Stern & Harry Stern Sports Arena
UID:e.417.6358
SEQUENCE:3
DTSTAMP:20260421T170956Z
URL:https://business.wahpetonbreckenridgechamber.com/events/details/svfsc-fall-kick-off-party-6358
END:VEVENT

END:VCALENDAR
