BEGIN:VCALENDAR
VERSION:2.0
PRODID:-//ChamberMaster//Event Calendar 2.0//EN
METHOD:PUBLISH
X-PUBLISHED-TTL:P3D
REFRESH-INTERVAL:P3D
CALSCALE:GREGORIAN
BEGIN:VEVENT
DTSTART:20231008T213000Z
DTEND:20231009T010000Z
X-MICROSOFT-CDO-ALLDAYEVENT:FALSE
SUMMARY:SVFSC Fall Kick Off Party
DESCRIPTION:Southern Valley Figure Skating Club
X-ALT-DESC;FMTTYPE=text/html:Southern Valley Figure Skating Club
LOCATION:Ella & Harry Stern Sports Arena
UID:e.417.4993
SEQUENCE:3
DTSTAMP:20260419T161516Z
URL:https://business.wahpetonbreckenridgechamber.com/events/details/svfsc-fall-kick-off-party-4993
END:VEVENT

END:VCALENDAR
