BEGIN:VCALENDAR
VERSION:2.0
PRODID:-//ChamberMaster//Event Calendar 2.0//EN
METHOD:PUBLISH
X-PUBLISHED-TTL:P3D
REFRESH-INTERVAL:P3D
CALSCALE:GREGORIAN
BEGIN:VEVENT
DTSTART:20250919T230000Z
DTEND:20250920T050000Z
X-MICROSOFT-CDO-ALLDAYEVENT:FALSE
SUMMARY:Summer Poker @ City Brew Hall
DESCRIPTION:Summer Poker @ City Brew Hall\nDakota Poker Tour is coming to WAHPETON\, ND\, for a Summer Event at the City Brew Hall.\n\nDakota Poker Tour's 2025 Season Presents...\n\nFriday Night Turbo 9/19/2025Registration 5pm Cards in air 6pm\, 15k stack 20min blinds.\n\n$100 Buy in. $100 rebuys or $100 add-on until close of registration 8pm\n\n* Double add on available if re-buy not used ($300 max buyin)\n\n*Suggested Dealer appreciation $20\n\n*Tips are appreciated but not mandatory to play\n\nSaturday 9/20/2025 - Single Day Event\n\nRegistration opens at 11am\, cards will be in the air at NOON!\n\n$150 buyin - 20\,000 chips\, 30 minute levels\n\n$50 add-on for 10\,000 additional in chips (up to 3 times for max buyin of $300). The addon can be taken at any time\, including at the beginning of the tournament\, and can also be used for re-entry.\n\nLate registration\, re-entry\, & add-ons open through dinner break. (Approximately 5:00pm)\n\nSuggested Dealer appreciation $20 - Tips are appreciated\, but not mandatory to play.\n\nDPT Leaderboard: https://dakotapokertour.com/leaderboard\n\nDPT Calendar: https://dakotapokertour.com/calendar\n\nDPT Youtube Channel: https://youtube.com/@dakotapokertour
X-ALT-DESC;FMTTYPE=text/html:Summer Poker @ City Brew Hall\n<div class="xdj266r x14z9mp xat24cr x1lziwak x1vvkbs" style="margin: 0px\; overflow-wrap: break-word\; font-family: &quot\;Segoe UI Historic&quot\;\, &quot\;Segoe UI&quot\;\, Helvetica\, Arial\, sans-serif\; color: rgb(226\, 229\, 233)\; font-size: 15px\; background-color: rgb(37\, 39\, 40)\;">Dakota Poker Tour is coming to WAHPETON\, ND\, for a Summer Event at the City Brew Hall.<br class="html-br" />\nDakota Poker Tour&#39\;s 2025 Season Presents...</div>\n\n<div class="x14z9mp xat24cr x1lziwak x1vvkbs xtlvy1s" style="margin: 0.5em 0px 0px\; overflow-wrap: break-word\; font-family: &quot\;Segoe UI Historic&quot\;\, &quot\;Segoe UI&quot\;\, Helvetica\, Arial\, sans-serif\; color: rgb(226\, 229\, 233)\; font-size: 15px\; background-color: rgb(37\, 39\, 40)\;">Friday Night Turbo 9/19/2025Registration 5pm Cards in air 6pm\, 15k stack 20min blinds.<br class="html-br" />\n$100 Buy in. $100 rebuys or $100 add-on until close of registration 8pm<br class="html-br" />\n* Double add on available if re-buy not used ($300 max buyin)<br class="html-br" />\n*Suggested Dealer appreciation $20<br class="html-br" />\n*Tips are appreciated but not mandatory to play</div>\n\n<div class="x14z9mp xat24cr x1lziwak x1vvkbs xtlvy1s" style="margin: 0.5em 0px 0px\; overflow-wrap: break-word\; font-family: &quot\;Segoe UI Historic&quot\;\, &quot\;Segoe UI&quot\;\, Helvetica\, Arial\, sans-serif\; color: rgb(226\, 229\, 233)\; font-size: 15px\; background-color: rgb(37\, 39\, 40)\;">Saturday 9/20/2025 - Single Day Event</div>\n\n<div class="x14z9mp xat24cr x1lziwak x1vvkbs xtlvy1s" style="margin: 0.5em 0px 0px\; overflow-wrap: break-word\; font-family: &quot\;Segoe UI Historic&quot\;\, &quot\;Segoe UI&quot\;\, Helvetica\, Arial\, sans-serif\; color: rgb(226\, 229\, 233)\; font-size: 15px\; background-color: rgb(37\, 39\, 40)\;">Registration opens at 11am\, cards will be in the air at NOON!<br class="html-br" />\n$150 buyin - 20\,000 chips\, 30 minute levels<br class="html-br" />\n$50 add-on for 10\,000 additional in chips (up to 3 times for max buyin of $300). The addon can be taken at any time\, including at the beginning of the tournament\, and can also be used for re-entry.<br class="html-br" />\nLate registration\, re-entry\, &amp\; add-ons open through dinner break. (Approximately 5:00pm)<br class="html-br" />\nSuggested Dealer appreciation $20 - Tips are appreciated\, but not mandatory to play.</div>\n\n<div class="x14z9mp xat24cr x1lziwak x1vvkbs xtlvy1s" style="margin: 0.5em 0px 0px\; overflow-wrap: break-word\; font-family: &quot\;Segoe UI Historic&quot\;\, &quot\;Segoe UI&quot\;\, Helvetica\, Arial\, sans-serif\; color: rgb(226\, 229\, 233)\; font-size: 15px\; background-color: rgb(37\, 39\, 40)\;">DPT Leaderboard:&nbsp\;<a attributionsrc="/privacy_sandbox/comet/register/source/?xt=AZXqZi9NYgZrZXAW6Doi-ZuLSnhpe2uX34_-f16peWC6Ie7Tf6jsJbZgn9DJFDaMDLO1NfbBL7KF-pRZ_7vrE64OdCDXXp7qd1O1aG2ddbeiJUiAJFyiPA5M1-Y_GCv2a9EGFzhN_v4lFFmEbyByz6UbcAVz6jiIg8foLrgGjjE_eV4Aqa1hc6IuLdScyebTLvvsykbjZmCy2Ra2fnoMAzTKZRKcuYNNf-trq14ZyYjEPKbT3YTxB8uHIi3BMSowSMipgx9l7yarRUQvXrPkLopsSbJef3EoE7iE90nthHSt5pxdvRmX8RuQ_ZnUFKKwF7ZiIhqDXI55cT5zCRS-qV-K1zcnSFxm0bpVm4ZrJymwpwcu4tRAfu3fZZTUchCgJYIj4XcxG61b9-AZ8k1qO9dVq-bNJyZMqDoen2pn-GqQYFDFEgtIcuS8XWT1_76lao99DMOeKQ6VqLgG8279ry1mpKIPYHvaqck0TJJGrSvHqRMmnlWDjiHdegmLxTkpZ5Z9Hp_lUAcGXpJsVK__CZjio1uXuY-4y3uf4j_yEAvm3bE2Ft1Q1Q_Ol6LszSkW3Dq2PLfNna0ITjQ3L8mUud8cN1Y3KnHXQSwjXJOKkFDjkj93kV3WQt8N1g7ogwyc5w-2dbyx0olBEDWVS7WAmlWxmUJUtfgUzKZWWneTnxlkaCSRCyBNdk9ttBvWFWl4adEmSiAyH0wZadxTaKXz1SB4T6L0zlZ0Fh0RabBoN5e-X4qeHM2kJJt0YTI5EluXLNa6q6opldkA-J7qDJBgyxPxLNa8pLeBxrn1EQqkY0n05w_vS9ajZTJ1bd4Ck5mWlxajdIx2V10YzNLO2ejLYHxLkt8cjgCBZ5Bnk-Mr9lbzmg" class="x1i10hfl xjbqb8w x1ejq31n x18oe1m7 x1sy0etr xstzfhl x972fbf x10w94by x1qhh985 x14e42zd x9f619 x1ypdohk xt0psk2 xe8uvvx xdj266r x14z9mp xat24cr x1lziwak xexx8yu xyri2b x18d9i69 x1c1uobl x16tdsg8 x1hl2dhg xggy1nq x1a2a7pz xkrqix3 x1sur9pj x1fey0fg x1s688f" href="https://dakotapokertour.com/leaderboard?fbclid=IwZXh0bgNhZW0CMTAAYnJpZBExbjdEMkdUOUxKdUtXYUk2ZwEeXTmCAx7YNd3fbFF9Vk_6w8_LUbgnhaA9vXIIuYaHsiCu6q4ViJX1y1dTy9c_aem_BuOwiji9wDM3TRwifRuOxg" rel="nofollow noreferrer" role="link" style="color: rgb(90\, 167\, 255)\; cursor: pointer\; text-decoration-line: none\; list-style: none\; border-width: 0px\; margin: 0px\; text-align: inherit\; border-style: none\; padding: 0px\; box-sizing: border-box\; background-color: transparent\; outline: none\; -webkit-tap-highlight-color: transparent\; font-weight: 600\; touch-action: manipulation\; display: inline\; font-family: inherit\;" tabindex="0" target="_blank">https://dakotapokertour.com/leaderboard</a><br class="html-br" />\nDPT Calendar:&nbsp\;<a attributionsrc="/privacy_sandbox/comet/register/source/?xt=AZXqZi9NYgZrZXAW6Doi-ZuLSnhpe2uX34_-f16peWC6Ie7Tf6jsJbZgn9DJFDaMDLO1NfbBL7KF-pRZ_7vrE64OdCDXXp7qd1O1aG2ddbeiJUiAJFyiPA5M1-Y_GCv2a9EGFzhN_v4lFFmEbyByz6UbcAVz6jiIg8foLrgGjjE_eV4Aqa1hc6IuLdScyebTLvvsykbjZmCy2Ra2fnoMAzTKZRKcuYNNf-trq14ZyYjEPKbT3YTxB8uHIi3BMSowSMipgx9l7yarRUQvXrPkLopsSbJef3EoE7iE90nthHSt5pxdvRmX8RuQ_ZnUFKKwF7ZiIhqDXI55cT5zCRS-qV-K1zcnSFxm0bpVm4ZrJymwpwcu4tRAfu3fZZTUchCgJYIj4XcxG61b9-AZ8k1qO9dVq-bNJyZMqDoen2pn-GqQYFDFEgtIcuS8XWT1_76lao99DMOeKQ6VqLgG8279ry1mpKIPYHvaqck0TJJGrSvHqRMmnlWDjiHdegmLxTkpZ5Z9Hp_lUAcGXpJsVK__CZjio1uXuY-4y3uf4j_yEAvm3bE2Ft1Q1Q_Ol6LszSkW3Dq2PLfNna0ITjQ3L8mUud8cN1Y3KnHXQSwjXJOKkFDjkj93kV3WQt8N1g7ogwyc5w-2dbyx0olBEDWVS7WAmlWxmUJUtfgUzKZWWneTnxlkaCSRCyBNdk9ttBvWFWl4adEmSiAyH0wZadxTaKXz1SB4T6L0zlZ0Fh0RabBoN5e-X4qeHM2kJJt0YTI5EluXLNa6q6opldkA-J7qDJBgyxPxLNa8pLeBxrn1EQqkY0n05w_vS9ajZTJ1bd4Ck5mWlxajdIx2V10YzNLO2ejLYHxLkt8cjgCBZ5Bnk-Mr9lbzmg" class="x1i10hfl xjbqb8w x1ejq31n x18oe1m7 x1sy0etr xstzfhl x972fbf x10w94by x1qhh985 x14e42zd x9f619 x1ypdohk xt0psk2 xe8uvvx xdj266r x14z9mp xat24cr x1lziwak xexx8yu xyri2b x18d9i69 x1c1uobl x16tdsg8 x1hl2dhg xggy1nq x1a2a7pz xkrqix3 x1sur9pj x1fey0fg x1s688f" href="https://dakotapokertour.com/calendar?fbclid=IwZXh0bgNhZW0CMTAAYnJpZBExbjdEMkdUOUxKdUtXYUk2ZwEeyKXLHrDIuYxQWBdCxLVaX8Hd1MQRCSlR4kx8PRhlrtRk8K-__RoygMi8zH4_aem__gAuatkXtjDGmSvKVYSzeg" rel="nofollow noreferrer" role="link" style="color: rgb(90\, 167\, 255)\; cursor: pointer\; text-decoration-line: none\; list-style: none\; border-width: 0px\; margin: 0px\; text-align: inherit\; border-style: none\; padding: 0px\; box-sizing: border-box\; background-color: transparent\; outline: none\; -webkit-tap-highlight-color: transparent\; font-weight: 600\; touch-action: manipulation\; display: inline\; font-family: inherit\;" tabindex="0" target="_blank">https://dakotapokertour.com/calendar</a><br class="html-br" />\nDPT Youtube Channel:&nbsp\;<a attributionsrc="/privacy_sandbox/comet/register/source/?xt=AZXqZi9NYgZrZXAW6Doi-ZuLSnhpe2uX34_-f16peWC6Ie7Tf6jsJbZgn9DJFDaMDLO1NfbBL7KF-pRZ_7vrE64OdCDXXp7qd1O1aG2ddbeiJUiAJFyiPA5M1-Y_GCv2a9EGFzhN_v4lFFmEbyByz6UbcAVz6jiIg8foLrgGjjE_eV4Aqa1hc6IuLdScyebTLvvsykbjZmCy2Ra2fnoMAzTKZRKcuYNNf-trq14ZyYjEPKbT3YTxB8uHIi3BMSowSMipgx9l7yarRUQvXrPkLopsSbJef3EoE7iE90nthHSt5pxdvRmX8RuQ_ZnUFKKwF7ZiIhqDXI55cT5zCRS-qV-K1zcnSFxm0bpVm4ZrJymwpwcu4tRAfu3fZZTUchCgJYIj4XcxG61b9-AZ8k1qO9dVq-bNJyZMqDoen2pn-GqQYFDFEgtIcuS8XWT1_76lao99DMOeKQ6VqLgG8279ry1mpKIPYHvaqck0TJJGrSvHqRMmnlWDjiHdegmLxTkpZ5Z9Hp_lUAcGXpJsVK__CZjio1uXuY-4y3uf4j_yEAvm3bE2Ft1Q1Q_Ol6LszSkW3Dq2PLfNna0ITjQ3L8mUud8cN1Y3KnHXQSwjXJOKkFDjkj93kV3WQt8N1g7ogwyc5w-2dbyx0olBEDWVS7WAmlWxmUJUtfgUzKZWWneTnxlkaCSRCyBNdk9ttBvWFWl4adEmSiAyH0wZadxTaKXz1SB4T6L0zlZ0Fh0RabBoN5e-X4qeHM2kJJt0YTI5EluXLNa6q6opldkA-J7qDJBgyxPxLNa8pLeBxrn1EQqkY0n05w_vS9ajZTJ1bd4Ck5mWlxajdIx2V10YzNLO2ejLYHxLkt8cjgCBZ5Bnk-Mr9lbzmg" class="x1i10hfl xjbqb8w x1ejq31n x18oe1m7 x1sy0etr xstzfhl x972fbf x10w94by x1qhh985 x14e42zd x9f619 x1ypdohk xt0psk2 xe8uvvx xdj266r x14z9mp xat24cr x1lziwak xexx8yu xyri2b x18d9i69 x1c1uobl x16tdsg8 x1hl2dhg xggy1nq x1a2a7pz xkrqix3 x1sur9pj x1fey0fg x1s688f" href="https://youtube.com/@dakotapokertour?fbclid=IwZXh0bgNhZW0CMTAAYnJpZBExbjdEMkdUOUxKdUtXYUk2ZwEeQraT97Do7I7fxBcAnChUWGirPSL_7ArcywkfShw6zND2KcrsNrPb5cuUL0I_aem_Mfn4ranO15fWK2dV2lksNw" rel="nofollow noreferrer" role="link" style="color: rgb(90\, 167\, 255)\; cursor: pointer\; text-decoration-line: none\; list-style: none\; border-width: 0px\; margin: 0px\; text-align: inherit\; border-style: none\; padding: 0px\; box-sizing: border-box\; background-color: transparent\; outline: none\; -webkit-tap-highlight-color: transparent\; font-weight: 600\; touch-action: manipulation\; display: inline\; font-family: inherit\;" tabindex="0" target="_blank">https://youtube.com/@dakotapokertour</a></div>\n
LOCATION:City Brew Hall
UID:e.417.6265
SEQUENCE:3
DTSTAMP:20260421T183915Z
URL:https://business.wahpetonbreckenridgechamber.com/events/details/summer-poker-city-brew-hall-6265
END:VEVENT

END:VCALENDAR
