BEGIN:VCALENDAR
VERSION:2.0
PRODID:-//ChamberMaster//Event Calendar 2.0//EN
METHOD:PUBLISH
X-PUBLISHED-TTL:P3D
REFRESH-INTERVAL:P3D
CALSCALE:GREGORIAN
BEGIN:VEVENT
DTSTART:20220805T000000Z
DTEND:20220805T030000Z
X-MICROSOFT-CDO-ALLDAYEVENT:FALSE
SUMMARY:Summer Gatherings with Kate Lachowitzer
DESCRIPTION:We love an evening of music\, especially when it's on our patio! Join us this week as we welcome the KATE LACHOWITZER playing at the Brew!\n\nMake sure to check out our other summer gathering nights + mark your calendars for upcoming events!
X-ALT-DESC;FMTTYPE=text/html:<div class="kvgmc6g5 cxmmr5t8 oygrvhab hcukyx3x c1et5uql" style="overflow-wrap: break-word\; margin: 0px\; font-family: &quot\;Segoe UI Historic&quot\;\, &quot\;Segoe UI&quot\;\, Helvetica\, Arial\, sans-serif\; color: rgb(5\, 5\, 5)\; font-size: 15px\;">We love an evening of music\, especially when it&#39\;s on our patio! Join us this week as we welcome the KATE LACHOWITZER playing at the Brew!</div>\n\n<div class="cxmmr5t8 oygrvhab hcukyx3x c1et5uql o9v6fnle" style="overflow-wrap: break-word\; margin: 0.5em 0px 0px\; font-family: &quot\;Segoe UI Historic&quot\;\, &quot\;Segoe UI&quot\;\, Helvetica\, Arial\, sans-serif\; color: rgb(5\, 5\, 5)\; font-size: 15px\;">Make sure to check out our other summer gathering nights + mark your calendars for upcoming events!</div>\n
LOCATION:
UID:e.417.4050
SEQUENCE:3
DTSTAMP:20260421T153425Z
URL:https://business.wahpetonbreckenridgechamber.com/events/details/summer-gatherings-with-kate-lachowitzer-4050
END:VEVENT

END:VCALENDAR
