BEGIN:VCALENDAR
VERSION:2.0
PRODID:-//ChamberMaster//Event Calendar 2.0//EN
METHOD:PUBLISH
X-PUBLISHED-TTL:P3D
REFRESH-INTERVAL:P3D
CALSCALE:GREGORIAN
BEGIN:VEVENT
DTSTART:20250920T150000Z
DTEND:20250920T160000Z
X-MICROSOFT-CDO-ALLDAYEVENT:FALSE
SUMMARY:Suicide Prevention Walk
DESCRIPTION:Walk with Us to Prevent Suicide\n\nRichland/ Wilkin counties Out of Darkness Community Walk\n\nActivities begin at 10 am | opening ceremony begins at 11:30 am\n\nRegister at afsp.org/Wahpeton
X-ALT-DESC;FMTTYPE=text/html:Walk with Us to Prevent Suicide<br />\nRichland/ Wilkin counties Out of Darkness Community Walk<br />\nActivities begin at 10 am | opening ceremony begins at 11:30 am<br />\nRegister at afsp.org/Wahpeton
LOCATION:Wahpeton Community Center
UID:e.417.6203
SEQUENCE:3
DTSTAMP:20260421T183707Z
URL:https://business.wahpetonbreckenridgechamber.com/events/details/suicide-prevention-walk-6203
END:VEVENT

END:VCALENDAR
