BEGIN:VCALENDAR
VERSION:2.0
PRODID:-//ChamberMaster//Event Calendar 2.0//EN
METHOD:PUBLISH
X-PUBLISHED-TTL:P3D
REFRESH-INTERVAL:P3D
CALSCALE:GREGORIAN
BEGIN:VEVENT
DTSTART:20251024T210000Z
DTEND:20251024T230000Z
X-MICROSOFT-CDO-ALLDAYEVENT:FALSE
SUMMARY:Step into K-Pop
DESCRIPTION:Step into K-Pop \n\nCaptivated by the music from K-Pop Demon Hunters? Join us for a fun intro to K-Pop with a listening party featuring popular groups and songs. Attempt some LK-pop dance challenges\, and learn some basic Korean words and K-Pop lingo to get you started. Discover new music\, connect with fellow fans\, and begin your K-pop journey!
X-ALT-DESC;FMTTYPE=text/html:Step into K-Pop&nbsp\;<br />\nCaptivated by the music from K-Pop Demon Hunters? Join us for a fun intro to K-Pop with a listening party featuring popular groups and songs. Attempt some LK-pop dance challenges\, and learn some basic Korean words and K-Pop lingo to get you started. Discover new music\, connect with fellow fans\, and begin your K-pop journey!
LOCATION:Breckenridge Public Library 205 7th St n
UID:e.417.6385
SEQUENCE:3
DTSTAMP:20260421T170751Z
URL:https://business.wahpetonbreckenridgechamber.com/events/details/step-into-k-pop-6385
END:VEVENT

END:VCALENDAR
