BEGIN:VCALENDAR
VERSION:2.0
PRODID:-//ChamberMaster//Event Calendar 2.0//EN
METHOD:PUBLISH
X-PUBLISHED-TTL:P3D
REFRESH-INTERVAL:P3D
CALSCALE:GREGORIAN
BEGIN:VEVENT
DTSTART:20250921T150000Z
DTEND:20250921T200000Z
X-MICROSOFT-CDO-ALLDAYEVENT:FALSE
SUMMARY:St Mary's Cenennial Celebration
DESCRIPTION:St Mary's Centennial Celebration\n\n1925-2025
X-ALT-DESC;FMTTYPE=text/html:St Mary&#39\;s Centennial Celebration<br />\n1925-2025
LOCATION:St Mary's School & Church 219 North 4th St Breckenridge\, MN 56520
UID:e.417.6273
SEQUENCE:3
DTSTAMP:20260421T183827Z
URL:https://business.wahpetonbreckenridgechamber.com/events/details/st-mary-s-cenennial-celebration-6273
END:VEVENT

END:VCALENDAR
