BEGIN:VCALENDAR
VERSION:2.0
PRODID:-//ChamberMaster//Event Calendar 2.0//EN
METHOD:PUBLISH
X-PUBLISHED-TTL:P3D
REFRESH-INTERVAL:P3D
CALSCALE:GREGORIAN
BEGIN:VEVENT
DTSTART:20260116T150000Z
DTEND:20260116T190000Z
X-MICROSOFT-CDO-ALLDAYEVENT:FALSE
SUMMARY:St John's Blood Drive
DESCRIPTION:St John's Catholic Church Community Blood Drive
X-ALT-DESC;FMTTYPE=text/html:St John&#39\;s Catholic Church Community Blood Drive
LOCATION:St John's Church - Mehok Center
UID:e.417.6523
SEQUENCE:3
DTSTAMP:20260421T130801Z
URL:https://business.wahpetonbreckenridgechamber.com/events/details/st-john-s-blood-drive-6523
END:VEVENT

END:VCALENDAR
