BEGIN:VCALENDAR
VERSION:2.0
PRODID:-//ChamberMaster//Event Calendar 2.0//EN
METHOD:PUBLISH
X-PUBLISHED-TTL:P3D
REFRESH-INTERVAL:P3D
CALSCALE:GREGORIAN
BEGIN:VEVENT
DTSTART:20240516T000000Z
DTEND:20240516T010000Z
X-MICROSOFT-CDO-ALLDAYEVENT:FALSE
SUMMARY:Spring Concert - Breck Music Department
DESCRIPTION:Breckenridge Music Department Spring Concert\n\nFeaturing 5th-grade band\n\n6th-grade band\n\nmiddle school band
X-ALT-DESC;FMTTYPE=text/html:Breckenridge Music Department Spring Concert<br />\nFeaturing 5th-grade band<br />\n6th-grade band<br />\nmiddle school band<br />\n&nbsp\;
LOCATION:Breck High School Gymnasium
UID:e.417.5537
SEQUENCE:3
DTSTAMP:20260425T163719Z
URL:https://business.wahpetonbreckenridgechamber.com/events/details/spring-concert-breck-music-department-5537
END:VEVENT

END:VCALENDAR
