BEGIN:VCALENDAR
VERSION:2.0
PRODID:-//ChamberMaster//Event Calendar 2.0//EN
METHOD:PUBLISH
X-PUBLISHED-TTL:P3D
REFRESH-INTERVAL:P3D
CALSCALE:GREGORIAN
BEGIN:VEVENT
DTSTART:20260425T150000Z
DTEND:20260425T170000Z
X-MICROSOFT-CDO-ALLDAYEVENT:FALSE
SUMMARY:Spring Cleaning at Bagg Bonanza Farm
DESCRIPTION:Spring Cleaning at Bagg Bonanza Farm\n\nSaturday April 25th | 10 am\n\nBreakfast & Lunch Provided\n\nCall 701-361-6572 for Details
X-ALT-DESC;FMTTYPE=text/html:Spring Cleaning at Bagg Bonanza Farm<br />\nSaturday April 25th | 10 am<br />\nBreakfast &amp\; Lunch Provided<br />\nCall 701-361-6572 for Details
LOCATION:
UID:e.417.7109
SEQUENCE:3
DTSTAMP:20260421T114310Z
URL:https://business.wahpetonbreckenridgechamber.com/events/details/spring-cleaning-at-bagg-bonanza-farm-7109
END:VEVENT

END:VCALENDAR
