BEGIN:VCALENDAR
VERSION:2.0
PRODID:-//ChamberMaster//Event Calendar 2.0//EN
METHOD:PUBLISH
X-PUBLISHED-TTL:P3D
REFRESH-INTERVAL:P3D
CALSCALE:GREGORIAN
BEGIN:VEVENT
DTSTART:20260308T200000Z
DTEND:20260308T220000Z
X-MICROSOFT-CDO-ALLDAYEVENT:FALSE
SUMMARY:Spring Ahead Puzzle Contest
DESCRIPTION:Spring Ahead Puzzle Contest\n\nBenefiting Red Door Art Gallery
X-ALT-DESC;FMTTYPE=text/html:Spring Ahead Puzzle Contest<br />\nBenefiting Red Door Art Gallery
LOCATION:Held at the gallery\, 418 Dakota ave\, Wahpeton\, ND
UID:e.417.7012
SEQUENCE:3
DTSTAMP:20260421T081236Z
URL:https://business.wahpetonbreckenridgechamber.com/events/details/spring-ahead-puzzle-contest-7012
END:VEVENT

END:VCALENDAR
