BEGIN:VCALENDAR
VERSION:2.0
PRODID:-//ChamberMaster//Event Calendar 2.0//EN
METHOD:PUBLISH
X-PUBLISHED-TTL:P3D
REFRESH-INTERVAL:P3D
CALSCALE:GREGORIAN
BEGIN:VEVENT
DTSTART:20251018T210000Z
DTEND:20251019T020000Z
X-MICROSOFT-CDO-ALLDAYEVENT:FALSE
SUMMARY:Sportsmens Smoker
DESCRIPTION:Red River Area Sportsmens Club 36th Annual\n\nSportsmens Smoker\n\nNumerous Games\, Raffles & More.\n\nLadies raffle\, silent auctions\, and meat raffle.\n\n$20 per person\n\nFree wild game chili & stew until gone.\n\nBuy your tickets in advance and be entered into additional cash drawings - available until friday october 17th.\n\n\n\nTickets available through club members or call Rich 701-640-5136. or Becci 701-403-9010.\n\n\n\nMust be 18 or accompanied by a parent or guardian.\n\nProceeds are used to support local youth programs\, wildlife projects and the Chahinkapa zoo.
X-ALT-DESC;FMTTYPE=text/html:Red River Area Sportsmens Club 36th Annual<br />\nSportsmens Smoker<br />\nNumerous Games\, Raffles &amp\; More.<br />\nLadies raffle\, silent auctions\, and meat raffle.<br />\n$20 per person<br />\nFree wild game chili &amp\; stew until gone.<br />\nBuy your tickets in advance and be entered into additional cash drawings - available until friday october 17th.<br />\n<br />\nTickets available through club members or call Rich 701-640-5136. or Becci 701-403-9010.<br />\n<br />\nMust be 18 or accompanied by a parent or guardian.<br />\nProceeds are used to support local youth programs\, wildlife projects and the Chahinkapa zoo.&nbsp\;
LOCATION:Wahpeton Community Center
UID:e.417.6333
SEQUENCE:3
DTSTAMP:20260421T172053Z
URL:https://business.wahpetonbreckenridgechamber.com/events/details/sportsmens-smoker-6333
END:VEVENT

END:VCALENDAR
