BEGIN:VCALENDAR
VERSION:2.0
PRODID:-//ChamberMaster//Event Calendar 2.0//EN
METHOD:PUBLISH
X-PUBLISHED-TTL:P3D
REFRESH-INTERVAL:P3D
CALSCALE:GREGORIAN
BEGIN:VEVENT
DTSTART:20231021T220000Z
DTEND:20231022T010000Z
X-MICROSOFT-CDO-ALLDAYEVENT:FALSE
SUMMARY:Sportsmen's Smoker
DESCRIPTION:34th Annual Sportsmen's Smoker
X-ALT-DESC;FMTTYPE=text/html:34th Annual Sportsmen&#39\;s Smoker&nbsp\;&nbsp\;&nbsp\;&nbsp\;
LOCATION:Wahpeton Community Center
UID:e.417.4983
SEQUENCE:3
DTSTAMP:20260419T145900Z
URL:https://business.wahpetonbreckenridgechamber.com/events/details/sportsmen-s-smoker-4983
END:VEVENT

END:VCALENDAR
