BEGIN:VCALENDAR
VERSION:2.0
PRODID:-//ChamberMaster//Event Calendar 2.0//EN
METHOD:PUBLISH
X-PUBLISHED-TTL:P3D
REFRESH-INTERVAL:P3D
CALSCALE:GREGORIAN
BEGIN:VEVENT
DTSTART:20231012T220000Z
DTEND:20231013T003000Z
X-MICROSOFT-CDO-ALLDAYEVENT:FALSE
SUMMARY:SpOoKy Mix & Mingle
DESCRIPTION:It's a SpOoKy time of year! Join us for this year's Mix & Mingle Business showcase! Complete with a cash bar\, Food\, drawings all night long\, and a grand prize! Grab a few friends dress up in your spookiest attire and come check out local business vendors!
X-ALT-DESC;FMTTYPE=text/html:It&#39\;s a SpOoKy time of year! Join us for this year&#39\;s Mix &amp\; Mingle Business showcase! Complete with a cash bar\, Food\, drawings all night long\, and a grand prize! Grab a few friends dress up in your spookiest attire and come check out local business vendors!
LOCATION:Wahpeton Event Center
UID:e.417.4964
SEQUENCE:3
DTSTAMP:20260419T145043Z
URL:https://business.wahpetonbreckenridgechamber.com/events/details/spooky-mix-mingle-4964
END:VEVENT

END:VCALENDAR
