BEGIN:VCALENDAR
VERSION:2.0
PRODID:-//ChamberMaster//Event Calendar 2.0//EN
METHOD:PUBLISH
X-PUBLISHED-TTL:P3D
REFRESH-INTERVAL:P3D
CALSCALE:GREGORIAN
BEGIN:VEVENT
DTSTART:20231020T000000Z
DTEND:20231020T020000Z
X-MICROSOFT-CDO-ALLDAYEVENT:FALSE
SUMMARY:Speaker Series Featuring Dwight Jon Zimmerman
DESCRIPTION:Come enjoy an evening with Dwight J. Zimmerman and Perry Miller\, 1981 NDSCS\n\nalumnus\, who is sure to enlighten\, inspire\, entertain\, and lead a provocative discussion\n\nwith Dwight during a one-on-one interview.\n\nDwight will have a limited number of books available to purchase and autograph.
X-ALT-DESC;FMTTYPE=text/html:Come enjoy an evening with Dwight J. Zimmerman and Perry Miller\, 1981 NDSCS<br />\nalumnus\, who is sure to enlighten\, inspire\, entertain\, and lead a provocative discussion<br />\nwith Dwight during a one-on-one interview.<br />\nDwight will have a limited number of books available to purchase and autograph.
LOCATION:NDSCS Bremer Bank Theatre in the Harry and Ella Stern Cultural Center
UID:e.417.4969
SEQUENCE:3
DTSTAMP:20260419T145152Z
URL:https://business.wahpetonbreckenridgechamber.com/events/details/speaker-series-featuring-dwight-jon-zimmerman-4969
END:VEVENT

END:VCALENDAR
