BEGIN:VCALENDAR
VERSION:2.0
PRODID:-//ChamberMaster//Event Calendar 2.0//EN
METHOD:PUBLISH
X-PUBLISHED-TTL:P3D
REFRESH-INTERVAL:P3D
CALSCALE:GREGORIAN
BEGIN:VEVENT
DTSTART:20251119T173000Z
DTEND:20251119T190000Z
X-MICROSOFT-CDO-ALLDAYEVENT:FALSE
SUMMARY:Soup Lunch @ The Leach Home
DESCRIPTION:Grab & Go for a Quick Lunch!\n\n12oz bowl of home made Knoephla soup served with cheddar sourdough bread.\n\n$10 - cash only
X-ALT-DESC;FMTTYPE=text/html:Grab &amp\; Go for a Quick Lunch!<br />\n12oz bowl of home made Knoephla soup served with cheddar sourdough bread.<br />\n$10 - cash only<br />\n&nbsp\;
LOCATION:The Leach Home 714 4th St North\, Wahpeton
UID:e.417.6477
SEQUENCE:3
DTSTAMP:20260421T154956Z
URL:https://business.wahpetonbreckenridgechamber.com/events/details/soup-lunch-the-leach-home-6477
END:VEVENT

END:VCALENDAR
