BEGIN:VCALENDAR
VERSION:2.0
PRODID:-//ChamberMaster//Event Calendar 2.0//EN
METHOD:PUBLISH
X-PUBLISHED-TTL:P3D
REFRESH-INTERVAL:P3D
CALSCALE:GREGORIAN
BEGIN:VEVENT
DTSTART:20260122T170000Z
DTEND:20260122T200000Z
X-MICROSOFT-CDO-ALLDAYEVENT:FALSE
SUMMARY:Soup Day & Bake Safe @ RRHS
DESCRIPTION:Red RIver Human Services Soup Day & Bake Sale Fundraiser\n\nFree will offering (suggested $7) 11 am - 2 pm\n\n\n\nMeal includes: Soup\, bread\, & cookie\n\n\n\nSoups Available:\n\n-Chicken TOrtilla\n\n-Sausage Saurkraut\n\nCheeseburger\n\n-Knoephla\n\n-Chicken Wild Rice\n\nZuppa Toscana
X-ALT-DESC;FMTTYPE=text/html:Red RIver Human Services Soup Day &amp\; Bake Sale Fundraiser<br />\nFree will offering (suggested $7) 11 am - 2 pm<br />\n<br />\nMeal includes: Soup\, bread\, &amp\; cookie<br />\n<br />\nSoups Available:<br />\n-Chicken TOrtilla<br />\n-Sausage Saurkraut<br />\nCheeseburger<br />\n-Knoephla<br />\n-Chicken Wild Rice<br />\nZuppa Toscana
LOCATION:207 5th Street S Wahpeton\, ND
UID:e.417.6575
SEQUENCE:3
DTSTAMP:20260421T131301Z
URL:https://business.wahpetonbreckenridgechamber.com/events/details/soup-day-bake-safe-rrhs-6575
END:VEVENT

END:VCALENDAR
