BEGIN:VCALENDAR
VERSION:2.0
PRODID:-//ChamberMaster//Event Calendar 2.0//EN
METHOD:PUBLISH
X-PUBLISHED-TTL:P3D
REFRESH-INTERVAL:P3D
CALSCALE:GREGORIAN
BEGIN:VEVENT
DTSTART:20260306T163000Z
DTEND:20260306T173000Z
X-MICROSOFT-CDO-ALLDAYEVENT:FALSE
SUMMARY:Song & Dance Day Out
DESCRIPTION:Song & Dance Day Out\n\nJoin us at the Breckenridge Public Library for a musical event featuring licensed music teacher and songwriter Karl Haataja. We will sing\, dance and create our own original music - bring your dancing shoes! This event is geared for youth ages 2-10\, but all ages are welcome.
X-ALT-DESC;FMTTYPE=text/html:<p>Song &amp\; Dance Day Out</p>\n\n<p><span class="x193iq5w xeuugli x13faqbe x1vvkbs x1xmvt09 x1lliihq x1s928wv xhkezso x1gmr53x x1cpjm7i x1fgarty x1943h6x xudqn12 x3x7a5m x6prxxf xvq8zen xo1l8bm xzsf02u" dir="auto">Join us at the Breckenridge Public Library for a musical event featuring licensed music teacher and songwriter Karl Haataja. We will sing\, dance and create our own original music - bring your dancing shoes! This event is geared for youth ages 2-10\, but all ages are welcome.</span></p>\n
LOCATION:Breckenridge Public Library 205 7th St N\, Breckenridge\, MN\, United States\, Minnesota 56520
UID:e.417.7022
SEQUENCE:3
DTSTAMP:20260421T081656Z
URL:https://business.wahpetonbreckenridgechamber.com/events/details/song-dance-day-out-7022
END:VEVENT

END:VCALENDAR
